BEGIN:VCALENDAR
PRODID:-//www.prestosports.com//PrestoSports//EN
VERSION:2.0
CALSCALE:GREGORIAN
BEGIN:VEVENT
DTSTAMP:20240411T092625Z
DTSTART;VALUE=DATE:20191206
SUMMARY:(Women's Volleyball) College of the Ozarks (Mo.) at Trinity International
TRANSP:TRANSPARENT
CATEGORIES:Women's Volleyball
DESCRIPTION:Women's Volleyball: (Women's Volleyball) College of the Ozarks (Mo.) at Trinity International\, 2019 NCCAA National Championship\, Final\, 0-3
UID:ohzu3w6qwu3tbjbi@prestosports.com
END:VEVENT
BEGIN:VEVENT
DTSTAMP:20240411T092625Z
DTSTART;VALUE=DATE:20191206
SUMMARY:(Women's Volleyball) College of the Ozarks (Mo.) at Southwestern Assemblies of God Univ
TRANSP:TRANSPARENT
CATEGORIES:Women's Volleyball
DESCRIPTION:Women's Volleyball: (Women's Volleyball) College of the Ozarks (Mo.) at Southwestern Assemblies of God Univ\, 2019 NCCAA National Championship\, Final\, 3-2
UID:gm7x6qs4ntoiaxnx@prestosports.com
END:VEVENT
BEGIN:VEVENT
DTSTAMP:20240411T092625Z
DTSTART;VALUE=DATE:20191207
SUMMARY:(Women's Volleyball) Judson vs. College of the Ozarks (Mo.)
TRANSP:TRANSPARENT
CATEGORIES:Women's Volleyball
DESCRIPTION:Women's Volleyball: (Women's Volleyball) Judson vs. College of the Ozarks (Mo.)\, 2019 NCCAA National Championship\, Final\, 3-1
UID:nt0hprolb9dp5v9u@prestosports.com
END:VEVENT
END:VCALENDAR
