BEGIN:VCALENDAR
PRODID:-//www.prestosports.com//PrestoSports//EN
VERSION:2.0
CALSCALE:GREGORIAN
BEGIN:VEVENT
DTSTAMP:20240411T092807Z
DTSTART;VALUE=DATE:20191206
SUMMARY:(Women's Volleyball) Judson at Providence Christian
TRANSP:TRANSPARENT
CATEGORIES:Women's Volleyball
DESCRIPTION:Women's Volleyball: (Women's Volleyball) Judson at Providence Christian\, Semifinal\, Final\, 3-0
UID:mzffvpqbhsczua7g@prestosports.com
END:VEVENT
BEGIN:VEVENT
DTSTAMP:20240411T092807Z
DTSTART;VALUE=DATE:20191206
SUMMARY:(Women's Volleyball) Judson at Southwestern Assemblies of God Univ
TRANSP:TRANSPARENT
CATEGORIES:Women's Volleyball
DESCRIPTION:Women's Volleyball: (Women's Volleyball) Judson at Southwestern Assemblies of God Univ\, Final\, 1-3
UID:8n2i7jux9qya24xs@prestosports.com
END:VEVENT
BEGIN:VEVENT
DTSTAMP:20240411T092807Z
DTSTART;VALUE=DATE:20191207
SUMMARY:(Women's Volleyball) Providence Christian vs. Judson
TRANSP:TRANSPARENT
CATEGORIES:Women's Volleyball
DESCRIPTION:Women's Volleyball: (Women's Volleyball) Providence Christian vs. Judson\, NCCAA National Championship - Semifinals\, Final\, 3-0
UID:stg05k43qpsspzx3@prestosports.com
END:VEVENT
BEGIN:VEVENT
DTSTAMP:20240411T092807Z
DTSTART;VALUE=DATE:20191207
SUMMARY:(Women's Volleyball) Judson at College of the Ozarks (Mo.)
TRANSP:TRANSPARENT
CATEGORIES:Women's Volleyball
DESCRIPTION:Women's Volleyball: (Women's Volleyball) Judson at College of the Ozarks (Mo.)\, 2019 NCCAA National Championship\, Final\, 1-3
UID:nt0hprolb9dp5v9u@prestosports.com
END:VEVENT
END:VCALENDAR
