BEGIN:VCALENDAR
PRODID:-//www.prestosports.com//PrestoSports//EN
VERSION:2.0
CALSCALE:GREGORIAN
BEGIN:VEVENT
DTSTAMP:20240411T092747Z
DTSTART:20191206T214500Z
DURATION:PT3H
SUMMARY:(Women's Volleyball) Concordia (Neb.) vs. Missouri Baptist
TRANSP:TRANSPARENT
CATEGORIES:Women's Volleyball
LOCATION:Sioux City\, IA
DESCRIPTION:Women's Volleyball: (Women's Volleyball) Concordia (Neb.) vs. Missouri Baptist\, Court 2\, Final\, 3-0
UID:cfr6lpjasqv9g8sp@prestosports.com
END:VEVENT
BEGIN:VEVENT
DTSTAMP:20240411T092747Z
DTSTART:20191207T030000Z
DURATION:PT3H
SUMMARY:(Women's Volleyball) Missouri Baptist vs. Marian (Ind.)
TRANSP:TRANSPARENT
CATEGORIES:Women's Volleyball
LOCATION:Sioux City\, IA
DESCRIPTION:Women's Volleyball: (Women's Volleyball) Missouri Baptist vs. Marian (Ind.)\, Final\, 0-3
UID:x62l07pa2lcrtc65@prestosports.com
END:VEVENT
END:VCALENDAR
