BEGIN:VCALENDAR
PRODID:-//www.prestosports.com//PrestoSports//EN
VERSION:2.0
CALSCALE:GREGORIAN
BEGIN:VEVENT
DTSTAMP:20240411T092801Z
DTSTART;VALUE=DATE:20191206
SUMMARY:(Women's Volleyball) College of the Ozarks (Mo.) vs. Trinity International
TRANSP:TRANSPARENT
CATEGORIES:Women's Volleyball
DESCRIPTION:Women's Volleyball: (Women's Volleyball) College of the Ozarks (Mo.) vs. Trinity International\, 2019 NCCAA National Championship\, Final\, 3-0
UID:ohzu3w6qwu3tbjbi@prestosports.com
END:VEVENT
END:VCALENDAR
