BEGIN:VCALENDAR
PRODID:-//www.prestosports.com//PrestoSports//EN
VERSION:2.0
CALSCALE:GREGORIAN
BEGIN:VEVENT
DTSTAMP:20240411T092641Z
DTSTART;VALUE=DATE:20191206
SUMMARY:(Women's Volleyball) Providence Christian vs. Southwestern Christian
TRANSP:TRANSPARENT
CATEGORIES:Women's Volleyball
DESCRIPTION:Women's Volleyball: (Women's Volleyball) Providence Christian vs. Southwestern Christian\, NCCAA National Championship - Pool Play\, Final\, 1-3
UID:0b640y42jldkmwm8@prestosports.com
END:VEVENT
BEGIN:VEVENT
DTSTAMP:20240411T092641Z
DTSTART;VALUE=DATE:20191207
SUMMARY:(Women's Volleyball) Providence Christian vs. Southwestern Christian
TRANSP:TRANSPARENT
CATEGORIES:Women's Volleyball
DESCRIPTION:Women's Volleyball: (Women's Volleyball) Providence Christian vs. Southwestern Christian\, NCCAA National Championship - Pool Play\, Final\, 1-3
UID:vzb1x67n1ica1brq@prestosports.com
END:VEVENT
END:VCALENDAR
