BEGIN:VCALENDAR
PRODID:-//www.prestosports.com//PrestoSports//EN
VERSION:2.0
CALSCALE:GREGORIAN
BEGIN:VEVENT
DTSTAMP:20240411T092824Z
DTSTART;VALUE=DATE:20191206
SUMMARY:(Women's Volleyball) Indiana Wesleyan at Grand View
TRANSP:TRANSPARENT
CATEGORIES:Women's Volleyball
DESCRIPTION:Women's Volleyball: (Women's Volleyball) Indiana Wesleyan at Grand View\, NAIA National Tournament - Round of 16\, Final\, 3-1
UID:8op338rpvjt38ctr@prestosports.com
END:VEVENT
BEGIN:VEVENT
DTSTAMP:20240411T092824Z
DTSTART:20191206T171500Z
DURATION:PT3H
SUMMARY:(Women's Volleyball) Grand View vs. Indiana Wesleyan
TRANSP:TRANSPARENT
CATEGORIES:Women's Volleyball
LOCATION:Sioux City\, IA
DESCRIPTION:Women's Volleyball: (Women's Volleyball) Grand View vs. Indiana Wesleyan\, Court 2\, Final\, 3-1
UID:iritnw8t3myyq5h4@prestosports.com
END:VEVENT
BEGIN:VEVENT
DTSTAMP:20240411T092824Z
DTSTART:20191207T000000Z
DURATION:PT3H
SUMMARY:(Women's Volleyball) Indiana Wesleyan vs. Viterbo
TRANSP:TRANSPARENT
CATEGORIES:Women's Volleyball
LOCATION:Sioux City\, IA
DESCRIPTION:Women's Volleyball: (Women's Volleyball) Indiana Wesleyan vs. Viterbo\, Court 2\, Final\, 2-3
UID:h3tfs4orckixfsgy@prestosports.com
END:VEVENT
END:VCALENDAR
