BEGIN:VCALENDAR
PRODID:-//www.prestosports.com//PrestoSports//EN
VERSION:2.0
CALSCALE:GREGORIAN
BEGIN:VEVENT
DTSTAMP:20240411T092630Z
DTSTART:20191206T193000Z
DURATION:PT3H
SUMMARY:(Women's Volleyball) Lindsey Wilson (Ky.) vs. Jamestown (N.D.)
TRANSP:TRANSPARENT
CATEGORIES:Women's Volleyball
LOCATION:Sioux City\, IA
DESCRIPTION:Women's Volleyball: (Women's Volleyball) Lindsey Wilson (Ky.) vs. Jamestown (N.D.)\, Court 2\, Final\, 3-2
UID:c7q9wkcygjy1rirz@prestosports.com
END:VEVENT
BEGIN:VEVENT
DTSTAMP:20240411T092630Z
DTSTART:20191207T021500Z
DURATION:PT3H
SUMMARY:(Women's Volleyball) Jamestown (N.D.) vs. Northwestern (Iowa)
TRANSP:TRANSPARENT
CATEGORIES:Women's Volleyball
LOCATION:Sioux City\, IA
DESCRIPTION:Women's Volleyball: (Women's Volleyball) Jamestown (N.D.) vs. Northwestern (Iowa)\, Court 1\, Final\, 3-1
UID:5xt0rw3sbxteyu57@prestosports.com
END:VEVENT
BEGIN:VEVENT
DTSTAMP:20240411T092630Z
DTSTART:20191207T170000Z
DURATION:PT3H
SUMMARY:(Women's Volleyball) Marian (Ind.) vs. Jamestown (N.D.)
TRANSP:TRANSPARENT
CATEGORIES:Women's Volleyball
LOCATION:Sioux City\, IA
DESCRIPTION:Women's Volleyball: (Women's Volleyball) Marian (Ind.) vs. Jamestown (N.D.)\, Court 2\, Final\, 1-3
UID:alfa7551cwel5m9x@prestosports.com
END:VEVENT
END:VCALENDAR
