BEGIN:VCALENDAR
PRODID:-//www.prestosports.com//PrestoSports//EN
VERSION:2.0
CALSCALE:GREGORIAN
BEGIN:VEVENT
DTSTAMP:20240411T092749Z
DTSTART:20191206T214500Z
DURATION:PT3H
SUMMARY:(Women's Volleyball) Southern Oregon vs. Marian (Ind.)
TRANSP:TRANSPARENT
CATEGORIES:Women's Volleyball
LOCATION:Sioux City\, IA
DESCRIPTION:Women's Volleyball: (Women's Volleyball) Southern Oregon vs. Marian (Ind.)\, Court 1\, Final\, 3-1
UID:f2epco25yez7hb4f@prestosports.com
END:VEVENT
BEGIN:VEVENT
DTSTAMP:20240411T092749Z
DTSTART:20191207T030000Z
DURATION:PT3H
SUMMARY:(Women's Volleyball) Missouri Baptist vs. Marian (Ind.)
TRANSP:TRANSPARENT
CATEGORIES:Women's Volleyball
LOCATION:Sioux City\, IA
DESCRIPTION:Women's Volleyball: (Women's Volleyball) Missouri Baptist vs. Marian (Ind.)\, Final\, 3-0
UID:x62l07pa2lcrtc65@prestosports.com
END:VEVENT
BEGIN:VEVENT
DTSTAMP:20240411T092749Z
DTSTART:20191207T170000Z
DURATION:PT3H
SUMMARY:(Women's Volleyball) Marian (Ind.) vs. Jamestown (N.D.)
TRANSP:TRANSPARENT
CATEGORIES:Women's Volleyball
LOCATION:Sioux City\, IA
DESCRIPTION:Women's Volleyball: (Women's Volleyball) Marian (Ind.) vs. Jamestown (N.D.)\, Court 2\, Final\, 3-1
UID:alfa7551cwel5m9x@prestosports.com
END:VEVENT
BEGIN:VEVENT
DTSTAMP:20240411T092749Z
DTSTART:20191208T010000Z
DURATION:PT3H
SUMMARY:(Women's Volleyball) Marian (Ind.) vs. Westmont (Calif.)
TRANSP:TRANSPARENT
CATEGORIES:Women's Volleyball
LOCATION:Sioux City\, IA
DESCRIPTION:Women's Volleyball: (Women's Volleyball) Marian (Ind.) vs. Westmont (Calif.)\, Court 1\, Final\, 3-0
UID:w5k4t2vmvc28yiq2@prestosports.com
END:VEVENT
END:VCALENDAR
