BEGIN:VCALENDAR
PRODID:-//www.prestosports.com//PrestoSports//EN
VERSION:2.0
CALSCALE:GREGORIAN
BEGIN:VEVENT
DTSTAMP:20240411T092812Z
DTSTART:20191206T193000Z
DURATION:PT3H
SUMMARY:(Women's Volleyball) Oklahoma City vs. Northwestern (Iowa)
TRANSP:TRANSPARENT
CATEGORIES:Women's Volleyball
LOCATION:Sioux City\, IA
DESCRIPTION:Women's Volleyball: (Women's Volleyball) Oklahoma City vs. Northwestern (Iowa)\, Court 1\, Final\, 1-3
UID:ewqlp8igrmxihokb@prestosports.com
END:VEVENT
END:VCALENDAR
