BEGIN:VCALENDAR
PRODID:-//www.prestosports.com//PrestoSports//EN
VERSION:2.0
CALSCALE:GREGORIAN
BEGIN:VEVENT
DTSTAMP:20240411T092816Z
DTSTART:20191206T150000Z
DURATION:PT3H
SUMMARY:(Women's Volleyball) Westmont (Calif.) vs. Eastern Oregon
TRANSP:TRANSPARENT
CATEGORIES:Women's Volleyball
LOCATION:Sioux City\, IA
DESCRIPTION:Women's Volleyball: (Women's Volleyball) Westmont (Calif.) vs. Eastern Oregon\, Final\, 1-3
UID:1zfw2gtx1eyzdc49@prestosports.com
END:VEVENT
END:VCALENDAR
