BEGIN:VCALENDAR
PRODID:-//www.prestosports.com//PrestoSports//EN
VERSION:2.0
CALSCALE:GREGORIAN
BEGIN:VEVENT
DTSTAMP:20240411T095954Z
DTSTART;VALUE=DATE:20191123
SUMMARY:(Women's Volleyball) Lincoln (Ill.) at Bellevue (Neb.)
TRANSP:TRANSPARENT
CATEGORIES:Women's Volleyball
DESCRIPTION:Women's Volleyball: (Women's Volleyball) Lincoln (Ill.) at Bellevue (Neb.)\, Final\, 0-3
UID:eq1s7in21vnd50ta@prestosports.com
END:VEVENT
END:VCALENDAR
