BEGIN:VCALENDAR
PRODID:-//www.prestosports.com//PrestoSports//EN
VERSION:2.0
CALSCALE:GREGORIAN
BEGIN:VEVENT
DTSTAMP:20240411T095921Z
DTSTART:20191123T220000Z
DURATION:PT3H
SUMMARY:(Women's Volleyball) Point (Ga.) at Westmont (Calif.)
TRANSP:TRANSPARENT
CATEGORIES:Women's Volleyball
DESCRIPTION:Women's Volleyball: (Women's Volleyball) Point (Ga.) at Westmont (Calif.)\, Opening Round\, Final\, 0-3
UID:uzeyvdth7pf52eke@prestosports.com
END:VEVENT
END:VCALENDAR
