BEGIN:VCALENDAR
PRODID:-//www.prestosports.com//PrestoSports//EN
VERSION:2.0
CALSCALE:GREGORIAN
BEGIN:VEVENT
DTSTAMP:20240411T095858Z
DTSTART:20191123T180000Z
DURATION:PT3H
SUMMARY:(Women's Volleyball) IU South Bend (Ind.) vs. Madonna (Mich.)
TRANSP:TRANSPARENT
CATEGORIES:Women's Volleyball
LOCATION:Livonia\, Mich.
DESCRIPTION:Women's Volleyball: (Women's Volleyball) IU South Bend (Ind.) vs. Madonna (Mich.)\, Opening Round\, Final\, 2-3
UID:tjy5fuy4xsv6zqrg@prestosports.com
END:VEVENT
END:VCALENDAR
