BEGIN:VCALENDAR
PRODID:-//www.prestosports.com//PrestoSports//EN
VERSION:2.0
CALSCALE:GREGORIAN
BEGIN:VEVENT
DTSTAMP:20240411T095952Z
DTSTART:20191123T230000Z
DURATION:PT3H
SUMMARY:(Women's Volleyball) IU Kokomo (Ind.) at Trinity Christian (Ill.)
TRANSP:TRANSPARENT
CATEGORIES:Women's Volleyball
DESCRIPTION:Women's Volleyball: (Women's Volleyball) IU Kokomo (Ind.) at Trinity Christian (Ill.)\, Opening Round\, Final\, 3-1
UID:1rrtwwa0qiwethjf@prestosports.com
END:VEVENT
END:VCALENDAR
