BEGIN:VCALENDAR
PRODID:-//www.prestosports.com//PrestoSports//EN
VERSION:2.0
CALSCALE:GREGORIAN
BEGIN:VEVENT
DTSTAMP:20240411T095959Z
DTSTART;VALUE=DATE:20191123
SUMMARY:(Women's Volleyball) Tennessee Southern vs. Milligan (Tenn.)
TRANSP:TRANSPARENT
CATEGORIES:Women's Volleyball
DESCRIPTION:Women's Volleyball: (Women's Volleyball) Tennessee Southern vs. Milligan (Tenn.)\, NAIA Championship - Opening Round\, Final\, 1-3
UID:jt927yuw6q6mdals@prestosports.com
END:VEVENT
END:VCALENDAR
