BEGIN:VCALENDAR
PRODID:-//www.prestosports.com//PrestoSports//EN
VERSION:2.0
CALSCALE:GREGORIAN
BEGIN:VEVENT
DTSTAMP:20240411T100024Z
DTSTART:20191123T180000Z
DURATION:PT3H
SUMMARY:(Women's Volleyball) William Carey (Miss.) vs. Xavier (La.)
TRANSP:TRANSPARENT
CATEGORIES:Women's Volleyball
DESCRIPTION:Women's Volleyball: (Women's Volleyball) William Carey (Miss.) vs. Xavier (La.)\, Opening Round\, Final\, 3-0
UID:0782ill5apyppuel@prestosports.com
END:VEVENT
END:VCALENDAR
