BEGIN:VCALENDAR
PRODID:-//www.prestosports.com//PrestoSports//EN
VERSION:2.0
CALSCALE:GREGORIAN
BEGIN:VEVENT
DTSTAMP:20240411T095758Z
DTSTART:20191123T180000Z
DURATION:PT3H
SUMMARY:(Women's Volleyball) Brescia (Ky.) at Ottawa (Kan.)
TRANSP:TRANSPARENT
CATEGORIES:Women's Volleyball
DESCRIPTION:Women's Volleyball: (Women's Volleyball) Brescia (Ky.) at Ottawa (Kan.)\, Opening Round\, Final\, 1-3
UID:u29vv5itgorv63tw@prestosports.com
END:VEVENT
END:VCALENDAR
