BEGIN:VCALENDAR
PRODID:-//www.prestosports.com//PrestoSports//EN
VERSION:2.0
CALSCALE:GREGORIAN
BEGIN:VEVENT
DTSTAMP:20240411T095927Z
DTSTART:20191124T000000Z
DURATION:PT3H
SUMMARY:(Women's Volleyball) Huston-Tillotson (Texas) at Texas Wesleyan
TRANSP:TRANSPARENT
CATEGORIES:Women's Volleyball
DESCRIPTION:Women's Volleyball: (Women's Volleyball) Huston-Tillotson (Texas) at Texas Wesleyan\, Opening Round\, Final\, 2-3
UID:gswi94nf7j0qyjs4@prestosports.com
END:VEVENT
END:VCALENDAR
