BEGIN:VCALENDAR
PRODID:-//www.prestosports.com//PrestoSports//EN
VERSION:2.0
CALSCALE:GREGORIAN
BEGIN:VEVENT
DTSTAMP:20240411T095049Z
DTSTART:20210417T220000Z
DURATION:PT3H
SUMMARY:(Women's Volleyball) MidAmerica Nazarene (Kan.) at Dordt (Iowa)
TRANSP:TRANSPARENT
CATEGORIES:Women's Volleyball
DESCRIPTION:Women's Volleyball: (Women's Volleyball) MidAmerica Nazarene (Kan.) at Dordt (Iowa)\, NAIA Opening Round  (25-23\, 25-17\, 25-20)\, Final\, 0-3
UID:yosdl2dq0zq0rrbh@prestosports.com
END:VEVENT
END:VCALENDAR
