BEGIN:VCALENDAR
PRODID:-//www.prestosports.com//PrestoSports//EN
VERSION:2.0
CALSCALE:GREGORIAN
BEGIN:VEVENT
DTSTAMP:20240411T095214Z
DTSTART:20210417T180000Z
DURATION:PT3H
SUMMARY:(Women's Volleyball) Georgetown (Ky.) at Indiana Wesleyan
TRANSP:TRANSPARENT
CATEGORIES:Women's Volleyball
DESCRIPTION:Women's Volleyball: (Women's Volleyball) Georgetown (Ky.) at Indiana Wesleyan\, NAIA Opening Round  (25-14\, 25-17\, 25-19)\, Final\, 0-3
UID:y5h266y6oalfl2z1@prestosports.com
END:VEVENT
END:VCALENDAR
