BEGIN:VCALENDAR
PRODID:-//www.prestosports.com//PrestoSports//EN
VERSION:2.0
CALSCALE:GREGORIAN
BEGIN:VEVENT
DTSTAMP:20240411T095027Z
DTSTART:20210417T220000Z
DURATION:PT3H
SUMMARY:(Women's Volleyball) Olivet Nazarene (Ill.) vs. Providence (Mont.)
TRANSP:TRANSPARENT
CATEGORIES:Women's Volleyball
DESCRIPTION:Women's Volleyball: (Women's Volleyball) Olivet Nazarene (Ill.) vs. Providence (Mont.)\, NAIA Opening Round  (25-21\, 25-12\, 25-20)\, Final\, 3-0
UID:2lbrkz2eh2wcnmpc@prestosports.com
END:VEVENT
END:VCALENDAR
