BEGIN:VCALENDAR
PRODID:-//www.prestosports.com//PrestoSports//EN
VERSION:2.0
CALSCALE:GREGORIAN
BEGIN:VEVENT
DTSTAMP:20240411T095030Z
DTSTART:20210417T180000Z
DURATION:PT3H
SUMMARY:(Women's Volleyball) Texas Wesleyan vs. Bellevue (Neb.)
TRANSP:TRANSPARENT
CATEGORIES:Women's Volleyball
LOCATION:Bellevue\, Neb.
DESCRIPTION:Women's Volleyball: (Women's Volleyball) Texas Wesleyan vs. Bellevue (Neb.)\, NAIA Opening Round  (23-25\, 25-18\, 23-25\, 25-23\, 18-16)\, Final\, 3-2
UID:ecmbo31nci9acc97@prestosports.com
END:VEVENT
END:VCALENDAR
