BEGIN:VCALENDAR
PRODID:-//www.prestosports.com//PrestoSports//EN
VERSION:2.0
CALSCALE:GREGORIAN
BEGIN:VEVENT
DTSTAMP:20240411T095051Z
DTSTART:20210417T230000Z
DURATION:PT3H
SUMMARY:(Women's Volleyball) McPherson at Grand View
TRANSP:TRANSPARENT
CATEGORIES:Women's Volleyball
DESCRIPTION:Women's Volleyball: (Women's Volleyball) McPherson at Grand View\, NAIA Opening Round  (25-19\, 21-25\, 23-25\, 25-14\, 15-11)\, Final\, 2-3
UID:xkb1xejnqex2dx0l@prestosports.com
END:VEVENT
END:VCALENDAR
