BEGIN:VCALENDAR
PRODID:-//www.prestosports.com//PrestoSports//EN
VERSION:2.0
CALSCALE:GREGORIAN
BEGIN:VEVENT
DTSTAMP:20240411T095030Z
DTSTART:20210417T170000Z
DURATION:PT3H
SUMMARY:(Women's Volleyball) Aquinas vs. IU Kokomo (Ind.)
TRANSP:TRANSPARENT
CATEGORIES:Women's Volleyball
DESCRIPTION:Women's Volleyball: (Women's Volleyball) Aquinas vs. IU Kokomo (Ind.)\, NAIA Opening Round  (25-21\, 25-16\, 25-14)\, Final\, 3-0
UID:krzzh2n7l7rylbxq@prestosports.com
END:VEVENT
END:VCALENDAR
