BEGIN:VCALENDAR
PRODID:-//www.prestosports.com//PrestoSports//EN
VERSION:2.0
CALSCALE:GREGORIAN
BEGIN:VEVENT
DTSTAMP:20240411T095045Z
DTSTART:20210417T220000Z
DURATION:PT3H
SUMMARY:(Women's Volleyball) Mobile (Ala.) at Keiser (Fla.)
TRANSP:TRANSPARENT
CATEGORIES:Women's Volleyball
DESCRIPTION:Women's Volleyball: (Women's Volleyball) Mobile (Ala.) at Keiser (Fla.)\, NAIA Opening Round  (25-16\, 25-19\, 26-24)\, Final\, 0-3
UID:j8twe3kh7uhk0vzx@prestosports.com
END:VEVENT
END:VCALENDAR
