BEGIN:VCALENDAR
PRODID:-//www.prestosports.com//PrestoSports//EN
VERSION:2.0
CALSCALE:GREGORIAN
BEGIN:VEVENT
DTSTAMP:20240411T094908Z
DTSTART:20210418T020000Z
DURATION:PT3H
SUMMARY:(Women's Volleyball) Benedictine Mesa at Westmont (Calif.)
TRANSP:TRANSPARENT
CATEGORIES:Women's Volleyball
DESCRIPTION:Women's Volleyball: (Women's Volleyball) Benedictine Mesa at Westmont (Calif.)\, NAIA Opening Round  (25-17\, 30-28\, 25-19)\, Final\, 0-3
UID:117srgz7nnns7lli@prestosports.com
END:VEVENT
END:VCALENDAR
