BEGIN:VCALENDAR
PRODID:-//www.prestosports.com//PrestoSports//EN
VERSION:2.0
CALSCALE:GREGORIAN
BEGIN:VEVENT
DTSTAMP:20240411T095154Z
DTSTART:20210418T010000Z
DURATION:PT3H
SUMMARY:(Women's Volleyball) Bushnell vs. Rocky Mountain
TRANSP:TRANSPARENT
CATEGORIES:Women's Volleyball
DESCRIPTION:Women's Volleyball: (Women's Volleyball) Bushnell vs. Rocky Mountain\, NAIA Opening Round (26-24\, 25-21\, 25-15)\, Final\, 3-0
UID:ae8zr4iu92bzj8qt@prestosports.com
END:VEVENT
END:VCALENDAR
