BEGIN:VCALENDAR
PRODID:-//www.prestosports.com//PrestoSports//EN
VERSION:2.0
CALSCALE:GREGORIAN
BEGIN:VEVENT
DTSTAMP:20240411T094859Z
DTSTART:20210417T200000Z
DURATION:PT3H
SUMMARY:(Women's Volleyball) The Master's (Calif.) at Corban
TRANSP:TRANSPARENT
CATEGORIES:Women's Volleyball
DESCRIPTION:Women's Volleyball: (Women's Volleyball) The Master's (Calif.) at Corban\, NAIA Opening Round (25-16\, 20-25\, 25-13\, 25-22)\, Final\, 1-3
UID:hrcmbxm8h0zg50y4@prestosports.com
END:VEVENT
END:VCALENDAR
