BEGIN:VCALENDAR
PRODID:-//www.prestosports.com//PrestoSports//EN
VERSION:2.0
CALSCALE:GREGORIAN
BEGIN:VEVENT
DTSTAMP:20240411T094906Z
DTSTART:20210417T200000Z
DURATION:PT3H
SUMMARY:(Women's Volleyball) Saint Mary (Kan.) vs. Jamestown (N.D.)
TRANSP:TRANSPARENT
CATEGORIES:Women's Volleyball
LOCATION:Jamestown\, ND
DESCRIPTION:Women's Volleyball: (Women's Volleyball) Saint Mary (Kan.) vs. Jamestown (N.D.)\, NAIA Opening Round (25-18\, 25-10\, 25-14)\, Final\, 0-3
UID:8nh11j64eyrp113c@prestosports.com
END:VEVENT
END:VCALENDAR
