BEGIN:VCALENDAR
PRODID:-//www.prestosports.com//PrestoSports//EN
VERSION:2.0
CALSCALE:GREGORIAN
BEGIN:VEVENT
DTSTAMP:20240411T095216Z
DTSTART:20210417T200000Z
DURATION:PT3H
SUMMARY:(Women's Volleyball) Bryan (Tenn.) vs. Marian (Ind.)
TRANSP:TRANSPARENT
CATEGORIES:Women's Volleyball
LOCATION:Marion\, Ind. 
DESCRIPTION:Women's Volleyball: (Women's Volleyball) Bryan (Tenn.) vs. Marian (Ind.)\, NAIA Opening Round  (25-12\, 25-12\, 25-22)\, Final\, 3-0
UID:dcndgqvciotj51ko@prestosports.com
END:VEVENT
END:VCALENDAR
