BEGIN:VCALENDAR
PRODID:-//www.prestosports.com//PrestoSports//EN
VERSION:2.0
CALSCALE:GREGORIAN
BEGIN:VEVENT
DTSTAMP:20240411T095126Z
DTSTART:20210417T220000Z
DURATION:PT3H
SUMMARY:(Women's Volleyball) Cottey vs. Central Methodist (Mo.)
TRANSP:TRANSPARENT
CATEGORIES:Women's Volleyball
DESCRIPTION:Women's Volleyball: (Women's Volleyball) Cottey vs. Central Methodist (Mo.)\, Fayette\, Mo. | NAIA Opening Round  (25-14\, 25-5\, 25-12)\, Final\, 3-0
UID:rhwz9cyy9abwn9js@prestosports.com
END:VEVENT
END:VCALENDAR
