BEGIN:VCALENDAR
PRODID:-//www.prestosports.com//PrestoSports//EN
VERSION:2.0
CALSCALE:GREGORIAN
BEGIN:VEVENT
DTSTAMP:20240411T095217Z
DTSTART:20210417T160000Z
DURATION:PT3H
SUMMARY:(Women's Volleyball) Milligan (Tenn.) at Missouri Baptist
TRANSP:TRANSPARENT
CATEGORIES:Women's Volleyball
DESCRIPTION:Women's Volleyball: (Women's Volleyball) Milligan (Tenn.) at Missouri Baptist\, NAIA Opening Round  (25-13\, 25-10\, 25-12)\, Final\, 0-3
UID:vn8a5106sgmvebo3@prestosports.com
END:VEVENT
END:VCALENDAR
