BEGIN:VCALENDAR
PRODID:-//www.prestosports.com//PrestoSports//EN
VERSION:2.0
CALSCALE:GREGORIAN
BEGIN:VEVENT
DTSTAMP:20240411T095134Z
DTSTART:20210417T180000Z
DURATION:PT3H
SUMMARY:(Women's Volleyball) William Woods (Mo.) vs. Ottawa (Kan.)
TRANSP:TRANSPARENT
CATEGORIES:Women's Volleyball
DESCRIPTION:Women's Volleyball: (Women's Volleyball) William Woods (Mo.) vs. Ottawa (Kan.)\, NAIA Opening Round (25-14\, 26-24\, 19-25\, 25-20)\, Final\, 3-1
UID:s3qopthe3hh0640l@prestosports.com
END:VEVENT
END:VCALENDAR
