BEGIN:VCALENDAR
PRODID:-//www.prestosports.com//PrestoSports//EN
VERSION:2.0
CALSCALE:GREGORIAN
BEGIN:VEVENT
DTSTAMP:20240411T095104Z
DTSTART:20210417T190000Z
DURATION:PT3H
SUMMARY:(Women's Volleyball) Mayville State (N.D.) vs. Midland
TRANSP:TRANSPARENT
CATEGORIES:Women's Volleyball
DESCRIPTION:Women's Volleyball: (Women's Volleyball) Mayville State (N.D.) vs. Midland\, NAIA Opening Round  (25-23\, 25-17\, 25-21)\, Final\, 3-0
UID:r767fy7h2mloprmm@prestosports.com
END:VEVENT
END:VCALENDAR
