BEGIN:VCALENDAR
PRODID:-//www.prestosports.com//PrestoSports//EN
VERSION:2.0
CALSCALE:GREGORIAN
BEGIN:VEVENT
DTSTAMP:20240411T095301Z
DTSTART:20210418T000000Z
DURATION:PT3H
SUMMARY:(Women's Volleyball) UC Merced at Eastern Oregon
TRANSP:TRANSPARENT
CATEGORIES:Women's Volleyball
DESCRIPTION:Women's Volleyball: (Women's Volleyball) UC Merced at Eastern Oregon\, NAIA Opening Round  (25-13\, 25-17\, 25-9)\, Final\, 0-3
UID:xy5s4abf9a0uhfkz@prestosports.com
END:VEVENT
END:VCALENDAR
