BEGIN:VCALENDAR
PRODID:-//www.prestosports.com//PrestoSports//EN
VERSION:2.0
CALSCALE:GREGORIAN
BEGIN:VEVENT
DTSTAMP:20240411T095258Z
DTSTART;VALUE=DATE:20210417
SUMMARY:(Women's Volleyball) Indiana University East vs. Park
TRANSP:TRANSPARENT
CATEGORIES:Women's Volleyball
DESCRIPTION:Women's Volleyball: (Women's Volleyball) Indiana University East vs. Park\, NAIA National Championship Opening Round\, Final\, 3-0
UID:xhjh76epf69vzkah@prestosports.com
END:VEVENT
BEGIN:VEVENT
DTSTAMP:20240411T095258Z
DTSTART:20210417T180000Z
DURATION:PT3H
SUMMARY:(Women's Volleyball) IU East (Ind.) vs. Park
TRANSP:TRANSPARENT
CATEGORIES:Women's Volleyball
LOCATION:Parkville\, MO
DESCRIPTION:Women's Volleyball: (Women's Volleyball) IU East (Ind.) vs. Park\, NAIA Opening Round (25-18\, 25-15\, 25-18)\, Final\, 3-0
UID:2bb1pybxicxh2qac@prestosports.com
END:VEVENT
END:VCALENDAR
