BEGIN:VCALENDAR
PRODID:-//www.prestosports.com//PrestoSports//EN
VERSION:2.0
CALSCALE:GREGORIAN
BEGIN:VEVENT
DTSTAMP:20240411T094901Z
DTSTART:20210417T190000Z
DURATION:PT3H
SUMMARY:(Women's Volleyball) Concordia (Neb.) vs. Xavier (La.)
TRANSP:TRANSPARENT
CATEGORIES:Women's Volleyball
DESCRIPTION:Women's Volleyball: (Women's Volleyball) Concordia (Neb.) vs. Xavier (La.)\, NAIA Opening Round  (25-13\, 25-14\, 23-25\, 25-20)\, Final\, 1-3
UID:ciiael0ch3l4lug8@prestosports.com
END:VEVENT
END:VCALENDAR
