BEGIN:VCALENDAR
PRODID:-//www.prestosports.com//PrestoSports//EN
VERSION:2.0
CALSCALE:GREGORIAN
BEGIN:VEVENT
DTSTAMP:20240411T094803Z
DTSTART:20210418T000000Z
DURATION:PT3H
SUMMARY:(Women's Volleyball) Trinity Christian (Ill.) vs. Northwestern (Iowa)
TRANSP:TRANSPARENT
CATEGORIES:Women's Volleyball
DESCRIPTION:Women's Volleyball: (Women's Volleyball) Trinity Christian (Ill.) vs. Northwestern (Iowa)\, NAIA Opening Round - Orange City\, Iowa (25-17\, 25-14\, 25-12)\, Final\, 3-0
UID:aynyu8lzmr6rjdae@prestosports.com
END:VEVENT
END:VCALENDAR
