BEGIN:VCALENDAR
PRODID:-//www.prestosports.com//PrestoSports//EN
VERSION:2.0
CALSCALE:GREGORIAN
BEGIN:VEVENT
DTSTAMP:20240411T095106Z
DTSTART:20210417T200000Z
DURATION:PT3H
SUMMARY:(Women's Volleyball) Lindsey Wilson (Ky.) at Cornerstone
TRANSP:TRANSPARENT
CATEGORIES:Women's Volleyball
DESCRIPTION:Women's Volleyball: (Women's Volleyball) Lindsey Wilson (Ky.) at Cornerstone\, NAIA Opening Round  27-25\, 25-16\, 25-22)\, Final\, 3-0
UID:5xn0bm1yt5iuadhj@prestosports.com
END:VEVENT
END:VCALENDAR
