BEGIN:VCALENDAR
PRODID:-//www.prestosports.com//PrestoSports//EN
VERSION:2.0
CALSCALE:GREGORIAN
BEGIN:VEVENT
DTSTAMP:20240411T095039Z
DTSTART:20210417T190000Z
DURATION:PT3H
SUMMARY:(Women's Volleyball) Madonna (Mich.) vs. Viterbo
TRANSP:TRANSPARENT
CATEGORIES:Women's Volleyball
LOCATION:Viterbo Varsity Athletics\,  
DESCRIPTION:Women's Volleyball: (Women's Volleyball) Madonna (Mich.) vs. Viterbo\, NAIA Opening Round  (25-12\, 25-22\, 25-19)\, Final\, 3-0
UID:44tbo6om7r1ipkx5@prestosports.com
END:VEVENT
END:VCALENDAR
