BEGIN:VCALENDAR
PRODID:-//www.prestosports.com//PrestoSports//EN
VERSION:2.0
CALSCALE:GREGORIAN
BEGIN:VEVENT
DTSTAMP:20240411T095254Z
DTSTART:20210417T220000Z
DURATION:PT3H
SUMMARY:(Women's Volleyball) Bethel (Ind.) at Reinhardt (Ga.)
TRANSP:TRANSPARENT
CATEGORIES:Women's Volleyball
DESCRIPTION:Women's Volleyball: (Women's Volleyball) Bethel (Ind.) at Reinhardt (Ga.)\, NAIA Opening Round (25-19\, 25-22\, 20-25\, 25-21)\, Final\, 3-1
UID:d5mx06z7aygybtb4@prestosports.com
END:VEVENT
END:VCALENDAR
