BEGIN:VCALENDAR
PRODID:-//www.prestosports.com//PrestoSports//EN
VERSION:2.0
CALSCALE:GREGORIAN
BEGIN:VEVENT
DTSTAMP:20240411T090000Z
DTSTART:20210429T220000Z
DURATION:PT3H
SUMMARY:(Women's Volleyball) Concordia (Neb.) vs. Dordt (Iowa)
TRANSP:TRANSPARENT
CATEGORIES:Women's Volleyball
LOCATION:Sioux City\, IA
DESCRIPTION:Women's Volleyball: (Women's Volleyball) Concordia (Neb.) vs. Dordt (Iowa)\, NAIA Quarterfinal (25-23\, 25-18\, 25-21)\, Final\, 3-0
UID:kig7bmnn56pj6717@prestosports.com
END:VEVENT
BEGIN:VEVENT
DTSTAMP:20240411T090000Z
DTSTART:20210501T003000Z
DURATION:PT3H
SUMMARY:(Women's Volleyball) Missouri Baptist vs. Dordt (Iowa)
TRANSP:TRANSPARENT
CATEGORIES:Women's Volleyball
LOCATION:Sioux City\, IA
DESCRIPTION:Women's Volleyball: (Women's Volleyball) Missouri Baptist vs. Dordt (Iowa)\, NAIA Semifinal (25-20\, 25-15\, 14-25\, 19-25\, 15-13)\, Final\, 2-3
UID:h908dq7754wh1bwj@prestosports.com
END:VEVENT
END:VCALENDAR
