BEGIN:VCALENDAR
PRODID:-//www.prestosports.com//PrestoSports//EN
VERSION:2.0
CALSCALE:GREGORIAN
BEGIN:VEVENT
DTSTAMP:20240411T090013Z
DTSTART:20210430T003000Z
DURATION:PT3H
SUMMARY:(Women's Volleyball) Northwestern (Iowa) vs. Midland
TRANSP:TRANSPARENT
CATEGORIES:Women's Volleyball
LOCATION:Sioux City\, IA
DESCRIPTION:Women's Volleyball: (Women's Volleyball) Northwestern (Iowa) vs. Midland\, NAIA Quarterfinal (25-18\, 15-25\, 25-20\, 25-17)\, Final\, 3-1
UID:0ykpxbqix8so0tgr@prestosports.com
END:VEVENT
BEGIN:VEVENT
DTSTAMP:20240411T090013Z
DTSTART:20210430T220000Z
DURATION:PT3H
SUMMARY:(Women's Volleyball) Midland vs. Jamestown (N.D.)
TRANSP:TRANSPARENT
CATEGORIES:Women's Volleyball
LOCATION:Sioux City\, IA
DESCRIPTION:Women's Volleyball: (Women's Volleyball) Midland vs. Jamestown (N.D.)\, NAIA Semifinal (21-25\, 26-24\, 30-28\, 25-12)\, Final\, 3-1
UID:uxzcemds17ddbi5p@prestosports.com
END:VEVENT
BEGIN:VEVENT
DTSTAMP:20240411T090013Z
DTSTART:20210502T000000Z
DURATION:PT3H
SUMMARY:(Women's Volleyball) Missouri Baptist vs. Midland
TRANSP:TRANSPARENT
CATEGORIES:Women's Volleyball
LOCATION:Sioux City\, IA
DESCRIPTION:Women's Volleyball: (Women's Volleyball) Missouri Baptist vs. Midland\, NAIA Championship\, Final\, 2-3
UID:sihwf4qdkpkh7rh2@prestosports.com
END:VEVENT
END:VCALENDAR
