BEGIN:VCALENDAR
PRODID:-//www.prestosports.com//PrestoSports//EN
VERSION:2.0
CALSCALE:GREGORIAN
BEGIN:VEVENT
DTSTAMP:20240411T090011Z
DTSTART;VALUE=DATE:20210429
SUMMARY:(Women's Volleyball) Grand View at Missouri Baptist
TRANSP:TRANSPARENT
CATEGORIES:Women's Volleyball
DESCRIPTION:Women's Volleyball: (Women's Volleyball) Grand View at Missouri Baptist\, NAIA National Championship Quarterfinal\, Final\, 2-3
UID:q6oxpgjpels2r7uk@prestosports.com
END:VEVENT
BEGIN:VEVENT
DTSTAMP:20240411T090011Z
DTSTART:20210430T003000Z
DURATION:PT3H
SUMMARY:(Women's Volleyball) Missouri Baptist vs. Grand View
TRANSP:TRANSPARENT
CATEGORIES:Women's Volleyball
LOCATION:Sioux City\, IA
DESCRIPTION:Women's Volleyball: (Women's Volleyball) Missouri Baptist vs. Grand View\, NAIA Quarterfinal (13-25\, 25-21\, 18-25\, 25-21\, 15-12)\, Final\, 2-3
UID:mpnep5lmra5k8xyg@prestosports.com
END:VEVENT
END:VCALENDAR
