BEGIN:VCALENDAR
PRODID:-//www.prestosports.com//PrestoSports//EN
VERSION:2.0
CALSCALE:GREGORIAN
BEGIN:VEVENT
DTSTAMP:20240411T092516Z
DTSTART:20211202T230000Z
DURATION:PT3H
SUMMARY:(Women's Volleyball) Bellevue (Neb.) vs. Jamestown (N.D.)
TRANSP:TRANSPARENT
CATEGORIES:Women's Volleyball
LOCATION:Sioux City\, IA
DESCRIPTION:Women's Volleyball: (Women's Volleyball) Bellevue (Neb.) vs. Jamestown (N.D.)\, Court 1\, Final\, 3-0
UID:89ebuo0r0jz59zx1@prestosports.com
END:VEVENT
BEGIN:VEVENT
DTSTAMP:20240411T092516Z
DTSTART:20211203T230000Z
DURATION:PT3H
SUMMARY:(Women's Volleyball) Park vs. Jamestown (N.D.)
TRANSP:TRANSPARENT
CATEGORIES:Women's Volleyball
LOCATION:Sioux City\, IA
DESCRIPTION:Women's Volleyball: (Women's Volleyball) Park vs. Jamestown (N.D.)\, Final\, 0-3
UID:givhtgz31azih48y@prestosports.com
END:VEVENT
END:VCALENDAR
