BEGIN:VCALENDAR
PRODID:-//www.prestosports.com//PrestoSports//EN
VERSION:2.0
CALSCALE:GREGORIAN
BEGIN:VEVENT
DTSTAMP:20240411T092531Z
DTSTART:20211203T013000Z
DURATION:PT3H
SUMMARY:(Women's Volleyball) Northwestern (Iowa) vs. Missouri Baptist
TRANSP:TRANSPARENT
CATEGORIES:Women's Volleyball
LOCATION:Sioux City\, IA
DESCRIPTION:Women's Volleyball: (Women's Volleyball) Northwestern (Iowa) vs. Missouri Baptist\, Court 1\, Final\, 3-1
UID:6fnfss7w1m303r2e@prestosports.com
END:VEVENT
BEGIN:VEVENT
DTSTAMP:20240411T092531Z
DTSTART:20211204T013000Z
DURATION:PT3H
SUMMARY:(Women's Volleyball) Marian (Ind.) vs. Missouri Baptist
TRANSP:TRANSPARENT
CATEGORIES:Women's Volleyball
LOCATION:Sioux City\, Iowa
DESCRIPTION:Women's Volleyball: (Women's Volleyball) Marian (Ind.) vs. Missouri Baptist\, Final\, 3-0
UID:o3zvuuys80nzzyrr@prestosports.com
END:VEVENT
BEGIN:VEVENT
DTSTAMP:20240411T092531Z
DTSTART:20211205T010000Z
DURATION:PT3H
SUMMARY:(Women's Volleyball) Missouri Baptist vs. Park
TRANSP:TRANSPARENT
CATEGORIES:Women's Volleyball
LOCATION:Sioux City\, Iowa
DESCRIPTION:Women's Volleyball: (Women's Volleyball) Missouri Baptist vs. Park\, Final\, 3-2
UID:upze92141h5qlpp7@prestosports.com
END:VEVENT
END:VCALENDAR
