BEGIN:VCALENDAR
PRODID:-//www.prestosports.com//PrestoSports//EN
VERSION:2.0
CALSCALE:GREGORIAN
BEGIN:VEVENT
DTSTAMP:20240411T093752Z
DTSTART:20211120T200000Z
DURATION:PT3H
SUMMARY:(Women's Volleyball) Embry-Riddle (Ariz.) at OUAZ
TRANSP:TRANSPARENT
CATEGORIES:Women's Volleyball
DESCRIPTION:Women's Volleyball: (Women's Volleyball) Embry-Riddle (Ariz.) at OUAZ\, NAIA Women's Volleyball National Championship -- Opening Round\, Final\, 0-3
UID:sw3pxypd4fp2qu43@prestosports.com
END:VEVENT
END:VCALENDAR
