BEGIN:VCALENDAR
PRODID:-//www.prestosports.com//PrestoSports//EN
VERSION:2.0
CALSCALE:GREGORIAN
BEGIN:VEVENT
DTSTAMP:20240411T094723Z
DTSTART:20211120T190000Z
DURATION:PT3H
SUMMARY:(Women's Volleyball) Lindsey Wilson (Ky.) at Ottawa (Kan.)
TRANSP:TRANSPARENT
CATEGORIES:Women's Volleyball
DESCRIPTION:Women's Volleyball: (Women's Volleyball) Lindsey Wilson (Ky.) at Ottawa (Kan.)\, Final\, 3-1
UID:oglmsbj33q0ua82s@prestosports.com
END:VEVENT
END:VCALENDAR
