BEGIN:VCALENDAR
PRODID:-//www.prestosports.com//PrestoSports//EN
VERSION:2.0
CALSCALE:GREGORIAN
BEGIN:VEVENT
DTSTAMP:20240411T093714Z
DTSTART:20211121T030000Z
DURATION:PT3H
SUMMARY:(Women's Volleyball) Park- Gilbert vs. Corban
TRANSP:TRANSPARENT
CATEGORIES:Women's Volleyball
DESCRIPTION:Women's Volleyball: (Women's Volleyball) Park- Gilbert vs. Corban\, NAIA Opening Round\, Final\, 3-0
UID:htaokez2vhr0d2rx@prestosports.com
END:VEVENT
END:VCALENDAR
