BEGIN:VCALENDAR
PRODID:-//www.prestosports.com//PrestoSports//EN
VERSION:2.0
CALSCALE:GREGORIAN
BEGIN:VEVENT
DTSTAMP:20240411T094155Z
DTSTART:20211121T000000Z
DURATION:PT3H
SUMMARY:(Women's Volleyball) Madonna (Mich.) at Indiana Wesleyan
TRANSP:TRANSPARENT
CATEGORIES:Women's Volleyball
DESCRIPTION:Women's Volleyball: (Women's Volleyball) Madonna (Mich.) at Indiana Wesleyan\, Final\, 0-3
UID:3t1r6kw12z9i8hl9@prestosports.com
END:VEVENT
END:VCALENDAR
